BEGIN:VCALENDAR
VERSION:2.0
PRODID:-//Life &amp; Hope e.V. - ECPv3.9.1//NONSGML v1.0//EN
CALSCALE:GREGORIAN
METHOD:PUBLISH
X-WR-CALNAME:Life &amp; Hope e.V.
X-ORIGINAL-URL:https://www.life-hope.de/de/
X-WR-CALDESC:Events for Life &amp; Hope e.V.
X-WR-TIMEZONE:Europe/Berlin
BEGIN:VEVENT
DTSTART;VALUE=DATE-TIME:20160123T140000
DTEND;VALUE=DATE-TIME:20160123T190000
DTSTAMP:20260422T122404
CREATED:20151119T182010
LAST-MODIFIED:20160114T094008
UID:3021-1453557600-1453575600@https://www.life-hope.de/de/
SUMMARY:Freundestreffen von Life & Hope e.V. im ICZ Sindelfingen
DESCRIPTION:[vc_row][vc_column width="1/1"][vc_column_text]Herzliche Einladung zu unserem diesjährigen Freundestreffen!    „Denn seht\, ich will ein Neues machen!“    Gott will in unserem Land sein leidenschaftliches Wirken durch den Heiligen Geist schenken. Der Tag wird dazu dienen\, Gott im Voraus mit Lobpreis\, Hingabe und Leidenschaft Dank zu bringen für alles\, was allein er tun kann und tun wird. ER wird Neues geben\, aber unsere geistlichen Augen müssen zuvor geöffnet werden.    Wir laden alle Freunde unseres Werkes zu diesem Tag ein und freuen uns auf die Gemeinschaft mit Euch in Gottes Gegenwart.[/vc_column_text][/vc_column][/vc_row][vc_row content_type=" " border_style="solid"][vc_column css=".vc_custom_1443451458996{margin-left: 0px !important;}" width="1/1"][vc_column_text css=".vc_custom_1452760821459{margin-bottom: 50px !important;}"]Flyer zum Download    Sindelfingen_Freundestreffen_23-01-2016      [/vc_column_text][/vc_column][/vc_row][vc_row][vc_column width="1/1"][vc_column_text]  Jetzt zum Freundestag von Life &amp; Hope e.V. am 23.01.2016 im ICZ Sindelfingen anmelden          [/vc_column_text][contact-form-7 id="3139" title="Anmeldung zum Seminar in Leonberg am 23.01.2016"][/vc_column][/vc_row]
URL:https://www.life-hope.de/de/event/seminar-in-der-stadthalle-leonberg/
LOCATION:Schwertstrasse 1/2, Sindelfingen, 71065 
CATEGORIES:Seminar
ATTACH;FMTTYPE=image/jpeg:http://www.life-hope.de/wp-content/uploads/2015/11/Freundestreffen-23-01-2016.jpg
ORGANIZER;CN=Life &amp; Hope e.V.:MAILTO:kontakt@life-hope.de
END:VEVENT
END:VCALENDAR