BEGIN:VCALENDAR
VERSION:2.0
PRODID:-//Life &amp; Hope e.V. - ECPv3.9.1//NONSGML v1.0//EN
CALSCALE:GREGORIAN
METHOD:PUBLISH
X-WR-CALNAME:Life &amp; Hope e.V.
X-ORIGINAL-URL:https://www.life-hope.de/de/
X-WR-CALDESC:Events for Life &amp; Hope e.V.
X-WR-TIMEZONE:Europe/Berlin
BEGIN:VEVENT
DTSTART;VALUE=DATE-TIME:20160312T100000
DTEND;VALUE=DATE-TIME:20160312T170000
DTSTAMP:20260422T091827
CREATED:20151119T183715
LAST-MODIFIED:20160129T173144
UID:3024-1457776800-1457802000@https://www.life-hope.de/de/
SUMMARY:Seminar im Hotel Lindenhof in Hubmersberg
DESCRIPTION:[vc_row content_type=" " border_style="solid"][vc_column css=".vc_custom_1443451458996{margin-left: 0px !important;}" width="1/1"][vc_column_text css=".vc_custom_1454085103417{margin-bottom: 50px !important;}"]FLYER "Gottes Ziel mit Dir und der Gemeinde Jesu" zum Download[/vc_column_text][/vc_column][/vc_row][vc_row][vc_column width="1/1"][vc_column_text]Referent: Brian Williamson\, Life &amp; Hope    Kennst du Gottes Wille für Dich und für die Gemeinde Jesu? Wie können wir ihn erkennen und umsetzen? Wenn wir auf das Ziel schauen\, werden wir göttliche Wegweisung empfangen\, und uns nicht vom Ziel abbringen lassen.    Gott Vater bereitet sich eine Braut für seinen Sohn Jesus zu. Diese Braut ist die Gemeinde Jesu Christi\, sie wird ohne Flecken und Runzeln sein. Um für diese gewaltige Hochzeit bereit zu sein\, muss sich die Braut beständig der Vorbereitung auf dieses Ereignis hingeben. Die Motivation dafür ist die Liebe zum Bräutigam\, die leidenschaftlich gelebt wird. Es lohnt sich durchzuhalten\, denn die Belohnung ist unaussprechlich schön und groß: Jesus selbst!    Auf dem Weg zu dieser Vermählung hat Gott in seinem Wort konkrete Anweisungen gegeben. Bei diesem Seminar geht es darum\, diese Anweisungen zu lehren und zu vertiefen. Zeiten des Gebets und der Anbetung werden dazu dienen.[/vc_column_text][/vc_column][/vc_row][vc_row][vc_column width="1/1"][vc_column_text]  Jetzt zum Seminar am 12.03.2016 im Hotel Lindenhof in Hubmersberg anmelden          [/vc_column_text][contact-form-7 id="3337" title="Event Anmeldung zu Event Hauskreis"][/vc_column][/vc_row][vc_row][vc_column width="1/1"][vc_column_text][/vc_column][/vc_row]
URL:https://www.life-hope.de/de/event/seminar-im-hotel-lindenhof-in-hubmersberg/
LOCATION:Hubmersberg 2a , Pommelsbrunn, Bayern, 91224
CATEGORIES:Seminar
ATTACH;FMTTYPE=image/jpeg:http://www.life-hope.de/wp-content/uploads/2016/01/Hubmersberg-12-03-2016.jpg
ORGANIZER;CN=Life &amp; Hope e.V.:MAILTO:kontakt@life-hope.de
END:VEVENT
END:VCALENDAR