BEGIN:VCALENDAR
VERSION:2.0
PRODID:-//Life &amp; Hope e.V. - ECPv3.9.1//NONSGML v1.0//EN
CALSCALE:GREGORIAN
METHOD:PUBLISH
X-WR-CALNAME:Life &amp; Hope e.V.
X-ORIGINAL-URL:https://www.life-hope.de/de/
X-WR-CALDESC:Events for Life &amp; Hope e.V.
X-WR-TIMEZONE:Europe/Berlin
BEGIN:VEVENT
DTSTART;VALUE=DATE-TIME:20160313T100000
DTEND;VALUE=DATE-TIME:20160313T120000
DTSTAMP:20260422T092848
CREATED:20151119T184344
LAST-MODIFIED:20160128T191833
UID:3025-1457863200-1457870400@https://www.life-hope.de/de/
SUMMARY:Gottesdienst in der Gemeinde "Der Weg zur Freiheit e.V." in Hubmersberg
DESCRIPTION:[vc_row content_type=" " border_style="solid"][vc_column css=".vc_custom_1443451458996{margin-left: 0px !important;}" width="1/1"][vc_column_text css=".vc_custom_1447954594036{margin-bottom: 50px !important;}"][/vc_column][/vc_row][vc_row][vc_column width="1/1"][vc_column_text]  Jetzt zum Gottesdienst am 13.03.2016 in Hubmersberg anmelden          [/vc_column_text][contact-form-7 id="3137"][/vc_column][/vc_row]
URL:https://www.life-hope.de/de/event/gottesdienst-in-der-weg-zur-freiheit-e-v-in-hubmersberg/
LOCATION:Hotel Lindenhof, Hubmersberg 2 , Hubmersberg, Bayern, 91224
CATEGORIES:Gottesdienst
ATTACH;FMTTYPE=image/jpeg:http://www.life-hope.de/wp-content/uploads/2015/11/Hotel-Lindenhof.jpg
ORGANIZER;CN=Der Weg zur Freiheit e.V.:MAILTO:guenter.adelmann@t-online.de
END:VEVENT
END:VCALENDAR