BEGIN:VCALENDAR
VERSION:2.0
PRODID:-//Life &amp; Hope e.V. - ECPv3.9.1//NONSGML v1.0//EN
CALSCALE:GREGORIAN
METHOD:PUBLISH
X-WR-CALNAME:Life &amp; Hope e.V.
X-ORIGINAL-URL:https://www.life-hope.de/de/
X-WR-CALDESC:Events for Life &amp; Hope e.V.
X-WR-TIMEZONE:Europe/Berlin
BEGIN:VEVENT
DTSTART;VALUE=DATE-TIME:20160409T093000
DTEND;VALUE=DATE-TIME:20160409T173000
DTSTAMP:20260422T073638
CREATED:20151119T185201
LAST-MODIFIED:20160206T175942
UID:3029-1460194200-1460223000@https://www.life-hope.de/de/
SUMMARY:ARISE - DAS MÄNNER-EVENT im ICZ Sindelfingen
DESCRIPTION:[vc_row][vc_column width="1/1"][vc_column_text]FLYER "ARISE - DAS MÄNNER-EVENT" (front) zum Download    FLYER "ARISE - DAS MÄNNER-EVENT" (back) zum Download[/vc_column_text][/vc_column][/vc_row][vc_row content_type=" " border_style="solid"][vc_column css=".vc_custom_1443451458996{margin-left: 0px !important;}" width="1/1"][vc_column_text css=".vc_custom_1454777650067{margin-bottom: 50px !important;}"][/vc_column][/vc_row][vc_row][vc_column width="1/1"][vc_column_text]  Jetzt zu ARISE - DAS MÄNNER-EVENT am 09.04.2015 im ICZ Sindelfingen anmelden          [/vc_column_text][contact-form-7 id="3135" title="Anmeldung zu ARISE - DAS MÄNNER-EVENT im ICZ Sindelfingen vom 08.04. bis 09.04.2016"][/vc_column][/vc_row]
URL:https://www.life-hope.de/de/event/maennerkonferenz-im-icz-sindelfingen/
LOCATION:Schwertstrasse 1/2, Sindelfingen, 71065 
CATEGORIES:Seminar
ATTACH;FMTTYPE=image/jpeg:http://www.life-hope.de/wp-content/uploads/2015/11/MENs-DAY-09-04-2016_front.jpg
ORGANIZER;CN=ICZ Sindelfingen:MAILTO:info@icz-sindelfingen.de
END:VEVENT
END:VCALENDAR