BEGIN:VCALENDAR
VERSION:2.0
PRODID:-//Life &amp; Hope e.V. - ECPv3.9.1//NONSGML v1.0//EN
CALSCALE:GREGORIAN
METHOD:PUBLISH
X-WR-CALNAME:Life &amp; Hope e.V.
X-ORIGINAL-URL:https://www.life-hope.de/de/
X-WR-CALDESC:Events for Life &amp; Hope e.V.
X-WR-TIMEZONE:Europe/Berlin
BEGIN:VEVENT
DTSTART;VALUE=DATE-TIME:20160525T180000
DTEND;VALUE=DATE-TIME:20160529T130000
DTSTAMP:20260422T060014
CREATED:20151016T163708
LAST-MODIFIED:20190328T180550
UID:2827-1464199200-1464526800@https://www.life-hope.de/de/
SUMMARY:test
DESCRIPTION:[vc_row content_type=" " border_style="solid"][vc_column css=".vc_custom_1443451458996{margin-left: 0px !important;}" width="1/1"][vc_column_text css=".vc_custom_1456056819625{margin-bottom: 50px !important;}"]NEU: Wir bieten Kinderbetreuung während der Seminarzeiten an    Referent: Brian Williamson\, Life &amp; Hope e.V.    Der bessere Weg ist der Weg\, den Jesus uns gelehrt hat zu gehen. Dieser Weg ist gefüllt mit Segen\, Heilung\, Versorgung\, Liebe\, Gesundheit\, Freude und Kraft. Wage es\, diesen besseren Weg zu gehen\, indem du das glaubst und umsetzt\, was Jesus gesagt hat. Du wirst eine neue Dimension in deinem Leben kennenlernen und Heilung\, Versorgung\, Salbung\, Zeichen und Wunder und vieles mehr empfangen.    Brian Williamson wird zu verschiedenen Themen lehren\, um die Teilnehmer durch den Glauben hinzuführen\, zu empfangen und weiterzugeben. Du sollst das Leben leben\, das Gott für dich vorgesehen hat.    Die wichtigsten Fragen von Christen beginnen meist mit den Worten: "Aber wie …?" Die Antworten sind immer im Wort Gottes zu finden. Diese fünf Tage werden mit Antworten gefüllt sein und mit der Umsetzung durch Gebet.    Folgende Themen sind vorgesehen:    • Wie – werde ich gesund?  • Wie – erkenne und lebe ich meine Berufung?  • Wie – wirke ich mit dem Heiligen Geist zusammen?  • Wie – lebe ich meine Salbung?  • Wie – wachse ich in Verantwortung?[/vc_column_text][/vc_column][/vc_row][vc_row][vc_column width="1/1"][vc_column_text]  Mehr Infos u. Anmeldung  &nbsp;          [/vc_column_text][/vc_column][/vc_row]
URL:https://www.life-hope.de/de/event/seminar-in-imst-oesterreich/
LOCATION:Haus des Lebens - Hochimst 3, Imst, 6460 , Österreich
CATEGORIES:Seminar
ATTACH;FMTTYPE=image/jpeg:http://www.life-hope.de/wp-content/uploads/2015/10/Fotolia_44393744_XS.jpg
ORGANIZER;CN=Missionswerk &#8222;Leben in Jesus Christus e.V.&#8220;:MAILTO:verwaltung@missionswerk.co.at
END:VEVENT
END:VCALENDAR