BEGIN:VCALENDAR
VERSION:2.0
PRODID:-//Life &amp; Hope e.V. - ECPv3.9.1//NONSGML v1.0//EN
CALSCALE:GREGORIAN
METHOD:PUBLISH
X-WR-CALNAME:Life &amp; Hope e.V.
X-ORIGINAL-URL:https://www.life-hope.de/de/
X-WR-CALDESC:Events for Life &amp; Hope e.V.
X-WR-TIMEZONE:Europe/Berlin
BEGIN:VEVENT
DTSTART;VALUE=DATE-TIME:20160618T140000
DTEND;VALUE=DATE-TIME:20160618T190000
DTSTAMP:20260422T040901
CREATED:20151119T190040
LAST-MODIFIED:20160617T105216
UID:3032-1466258400-1466276400@https://www.life-hope.de/de/
SUMMARY:Seminar in Leonberg, Stadthalle
DESCRIPTION:[vc_row][vc_column width="1/1"][vc_column_text]FLYER "Leben in Gottes Fülle - Leben im Überfluss" zum Download[/vc_column_text][/vc_column][/vc_row][vc_row content_type=" " border_style="solid"][vc_column css=".vc_custom_1443451458996{margin-left: 0px !important;}" width="1/1"][vc_column_text css=".vc_custom_1455123490255{margin-bottom: 50px !important;}"]Referent: Brian Williamson\, Life &amp; Hope e.V.      Die meisten Menschen wollen im natürlichen Bereich im Überfluss leben\, weil Mangel das Leben letztendlich schwer macht.    Leben in Fülle erhalten wir durch ein Leben im Heiligen Geist. In der Fülle Gottes leben bedeutet\, erlöst zu sein und Freude zu haben. Sogar im Leid\, Vertrauen zu haben und auch wenn Mangel kommt\, Nähe und Beziehung zu Gott Vater zu haben – besonders wenn man nichts davon fühlt. Christen haben bei ihrer Wiedergeburt durch den Heiligen Geist bereits die Fülle Gottes\, d.h. ewiges Leben durch Jesus bekommen.    Das Seminar wird den Weg heraus aus einem Leben im "gerade genug" hinein in ein "überfließendes" Leben aufzeigen. Neben Lehre\, Anbetung und Gemeinschaft wird für jeden prophetisch gebetet.    Empfange jetzt schon im Glauben\, dass Gott für dich persönlich die Fülle\, den Überfluss hat.[/vc_column_text][/vc_column][/vc_row][vc_row][vc_column][/vc_column][vc_column width="1/1"][vc_column_text]  Jetzt zum Seminar in Leonberg am 18.06.2016 anmelden          [/vc_column_text][contact-form-7 id="3131" title="Anmeldung zum Seminar in Leonberg am 18.06.2016"][/vc_column][vc_column][/vc_column][/vc_row]
URL:https://www.life-hope.de/de/event/seminar-in-der-stadthalle-leonberg-duplikat/
LOCATION:Römerstraße 110, Leonberg, 71229
CATEGORIES:Seminar
ATTACH;FMTTYPE=image/jpeg:http://www.life-hope.de/wp-content/uploads/2016/01/Leonberg-18-06-2016.jpg
ORGANIZER;CN=Life &amp; Hope e.V.:MAILTO:kontakt@life-hope.de
END:VEVENT
END:VCALENDAR