BEGIN:VCALENDAR
VERSION:2.0
PRODID:-//Life &amp; Hope e.V. - ECPv3.9.1//NONSGML v1.0//EN
CALSCALE:GREGORIAN
METHOD:PUBLISH
X-WR-CALNAME:Life &amp; Hope e.V.
X-ORIGINAL-URL:https://www.life-hope.de/de/
X-WR-CALDESC:Events for Life &amp; Hope e.V.
X-WR-TIMEZONE:Europe/Berlin
BEGIN:VEVENT
DTSTART;VALUE=DATE-TIME:20160730T140000
DTEND;VALUE=DATE-TIME:20160730T190000
DTSTAMP:20260422T023056
CREATED:20160616T103025
LAST-MODIFIED:20160625T193044
UID:3554-1469887200-1469905200@https://www.life-hope.de/de/
SUMMARY:Seminar in Leonberg, Stadthalle
DESCRIPTION:[vc_row][vc_column width="1/1"][vc_column_text]FLYER "Gottes Kraftwirkungen - hier und jetzt§ 30.07.2016 zum Download[/vc_column_text][/vc_column][/vc_row][vc_row content_type=" " border_style="solid"][vc_column css=".vc_custom_1443451458996{margin-left: 0px !important;}" width="1/1"][vc_column_text css=".vc_custom_1466153064445{margin-bottom: 50px !important;}"]Referent: Brian Williamson\, Life &amp; Hope e.V.      Die Bibel ist gefüllt mit Berichten über Gottes Kraftwirkungen. Gottes Kraftwirkungen sind Zeichen und Wunder\, durch die Menschen aller Gesellschaftsschichten verändert wurden. Wir als neutestamentliche Gemeinde sollen und werden in dieser Dimension leben und wirken\, bis der Bräutigam Jesus wiederkommt.    Wenn wir in dieser Dimension leben\, vollbringen wir die Werke Jesu Christi. Und das ist unser Auftrag\, der uns von Jesus selbst gegeben wurde.    Unser Ziel ist es zu lernen\, in Gottes Gegenwart Offenbarungen zu bekommen\, um dann hinauszugehen in unsere Welt und in dieser Dimension zu predigen und zu leben.    Gottes Kraftwirkungen sind für hier und jetzt![/vc_column_text][/vc_column][/vc_row][vc_row][vc_column][/vc_column][vc_column width="1/1"][vc_column_text]  Jetzt zum Seminar in Leonberg am 30.07.2016 anmelden          [/vc_column_text][contact-form-7 id="3556" title="Anmeldung zum Seminar in Leonberg am 30.07.2016"][/vc_column][vc_column][/vc_column][/vc_row]
URL:https://www.life-hope.de/de/event/seminar-in-leonberg-stadthalle-leonberg-duplikat/
LOCATION:Römerstraße 110, Leonberg, 71229
CATEGORIES:Seminar
ATTACH;FMTTYPE=image/jpeg:http://www.life-hope.de/wp-content/uploads/2016/06/Leonberg-30.07.20161.jpg
ORGANIZER;CN=Life &amp; Hope e.V.:MAILTO:kontakt@life-hope.de
END:VEVENT
END:VCALENDAR