BEGIN:VCALENDAR
VERSION:2.0
PRODID:-//Life &amp; Hope e.V. - ECPv3.9.1//NONSGML v1.0//EN
CALSCALE:GREGORIAN
METHOD:PUBLISH
X-WR-CALNAME:Life &amp; Hope e.V.
X-ORIGINAL-URL:https://www.life-hope.de/de/
X-WR-CALDESC:Events for Life &amp; Hope e.V.
X-WR-TIMEZONE:Europe/Berlin
BEGIN:VEVENT
DTSTART;VALUE=DATE-TIME:20160820T140000
DTEND;VALUE=DATE-TIME:20160820T190000
DTSTAMP:20260422T005345
CREATED:20160713T153257
LAST-MODIFIED:20160819T180135
UID:3729-1471701600-1471719600@https://www.life-hope.de/de/
SUMMARY:Seminar in Leonberg, Stadthalle
DESCRIPTION:[vc_row][vc_column width="1/1"][vc_column_text]Flyer zum Download[/vc_column_text][/vc_column][/vc_row][vc_row content_type=" " border_style="solid"][vc_column css=".vc_custom_1443451458996{margin-left: 0px !important;}" width="1/1"][vc_column_text css=".vc_custom_1470131732718{margin-bottom: 50px !important;}"]Referent: Brian Williamson\, Life &amp; Hope e.V.      Das Werk am Kreuz von Golgatha hat eine vollkommene Befreiung und Heilung für jeden Menschen bewirkt. Der Geist eines wiedergeborenen Christen ist dadurch absolut frei und neu. Und doch leben unzählige Christen in Qual\, Armut\, Ängsten\, Sorgen\, Sünden\, Erbschuld und vielem mehr\, weil sie nicht wissen\, wie sie frei und heil werden können.    Durch biblische und übernatürliche Lehre in der Gegenwart Gottes wird der Weg zur Befreiung und Heilung von allen dämonischen Anrechten gelehrt und Jesus Christus\, der Befreier\, wird Deine Seele (= Verstand\, Wille u. Gefühl) erneuern und Du wirst in eine andere Dimension der Freiheit kommen. Dann wirst Du für andere beten und auch sie werden frei und heil.    Gottes Reich hat Befreiung und Heilung gebracht. Komm und empfange sie. Du bist es wert    [/vc_column_text][/vc_column][/vc_row][vc_row][vc_column][/vc_column][vc_column width="1/1"][vc_column_text]  Jetzt zum Seminar in Leonberg am 20.08.2016 anmelden          [/vc_column_text][contact-form-7 id="3730" title="Anmeldung zum Seminar in Leonberg am 20.08.2016"][/vc_column][vc_column][/vc_column][/vc_row]
URL:https://www.life-hope.de/de/event/seminar-in-leonberg-stadthalle/
LOCATION:Römerstraße 110, Leonberg, 71229
CATEGORIES:Seminar
ATTACH;FMTTYPE=image/jpeg:http://www.life-hope.de/wp-content/uploads/2016/07/Unbenannt.jpg
ORGANIZER;CN=Life &amp; Hope e.V.:MAILTO:kontakt@life-hope.de
END:VEVENT
END:VCALENDAR