BEGIN:VCALENDAR
VERSION:2.0
PRODID:-//Life &amp; Hope e.V. - ECPv3.9.1//NONSGML v1.0//EN
CALSCALE:GREGORIAN
METHOD:PUBLISH
X-WR-CALNAME:Life &amp; Hope e.V.
X-ORIGINAL-URL:https://www.life-hope.de/de/
X-WR-CALDESC:Events for Life &amp; Hope e.V.
X-WR-TIMEZONE:Europe/Berlin
BEGIN:VEVENT
DTSTART;VALUE=DATE-TIME:20161024T200000
DTEND;VALUE=DATE-TIME:20161024T220000
DTSTAMP:20260421T213839
CREATED:20160705T180412
LAST-MODIFIED:20160804T110853
UID:3714-1477339200-1477346400@https://www.life-hope.de/de/
SUMMARY:Hausversammlung im Hotel Lindenhof in Hubmersberg
DESCRIPTION:[vc_row content_type=" " border_style="solid"][vc_column css=".vc_custom_1443451458996{margin-left: 0px !important;}" width="1/1"][vc_column_text css=".vc_custom_1447954594036{margin-bottom: 50px !important;}"][/vc_column][/vc_row][vc_row][vc_column width="1/1"][vc_column_text]  Jetzt zur Hausversammlung am 24.10.2016 im Hotel Lindenhof in Hubmersberg anmelden          [/vc_column_text][contact-form-7 id="3715" title="Event Anmeldung zu Event Hauskreis"][/vc_column][/vc_row]
URL:https://www.life-hope.de/de/event/hausversammlung-im-hotel-lindenhof-in-hubmersberg-duplikat-2/
LOCATION:Hubmersberg 2a , Pommelsbrunn, Bayern, 91224
CATEGORIES:Hausversammlung
ATTACH;FMTTYPE=image/jpeg:http://www.life-hope.de/wp-content/uploads/2015/11/Hotel-Lindenhof.jpg
END:VEVENT
END:VCALENDAR