BEGIN:VCALENDAR
VERSION:2.0
PRODID:-//Life &amp; Hope e.V. - ECPv3.9.1//NONSGML v1.0//EN
CALSCALE:GREGORIAN
METHOD:PUBLISH
X-WR-CALNAME:Life &amp; Hope e.V.
X-ORIGINAL-URL:https://www.life-hope.de/de/
X-WR-CALDESC:Events for Life &amp; Hope e.V.
X-WR-TIMEZONE:Europe/Berlin
BEGIN:VEVENT
DTSTART;VALUE=DATE-TIME:20161029T140000
DTEND;VALUE=DATE-TIME:20161029T190000
DTSTAMP:20260421T213714
CREATED:20160918T153655
LAST-MODIFIED:20160918T170111
UID:3892-1477749600-1477767600@https://www.life-hope.de/de/
SUMMARY:Seminar in Leonberg, Stadthalle
DESCRIPTION:[vc_row content_type=" " border_style="solid"][vc_column css=".vc_custom_1443451458996{margin-left: 0px !important;}" width="1/1"][vc_column_text css=".vc_custom_1474210874695{margin-bottom: 50px !important;}"]Flyer zum Download[/vc_column_text][/vc_column][/vc_row][vc_row][vc_column width="1/1"][vc_column_text]Referent: Brian Williamson\, Life &amp; Hope e.V.    Der Bereich unserer Gedanken bereitet uns große Schwierig­keiten\, wenn es darum geht zu denken wie Gott denkt. Die Bibel sagt viel über das Thema Denken und darüber\, wie sich der wiedergeborene Christ ein neues Denken aneignen kann. Diese neue Denkweise bringt Heilung und Befreiung sowie die von Gott gegebene Fähigkeit hervor\, Gottes Gedanken zu empfangen\, zu leben und an andere weiterzugeben. Das ist der Weg\, den Gott in seinem Wort aufzeigt. Jeder\, der diesen Weg des neuen Denkens wählt und sich aneignet\, wird nicht weiter die Verletzungen und Misserfolge aus der Vergangenheit ausleben\, sondern in den Absichten und Plänen und in der Liebe Gottes leben und gute\, bleibende Frucht für sich und andere hervorbringen.    Das Seminar möchte vermitteln\, wie man mit erneuerten Gedanken leben und so zum Ziel seines Lebens kommen kann. Es beinhaltet biblische Lehre und wird begleitet von Anbetung\, Praxis und Gebet.[/vc_column_text][/vc_column][/vc_row][vc_row][vc_column width="1/1"][vc_column_text]  Jetzt zum Seminar in Leonberg am 29.10.2016 anmelden          [/vc_column_text][contact-form-7 id="3764" title="Anmeldung zum Seminar in Leonberg am 29.10.2016"][/vc_column][/vc_row]
URL:https://www.life-hope.de/de/event/seminar-in-leonberg-stadthalle-29-10-2016/
LOCATION:Römerstraße 110, Leonberg, 71229
CATEGORIES:Seminar
ATTACH;FMTTYPE=image/jpeg:http://www.life-hope.de/wp-content/uploads/2016/09/Leonberg-29.10.2016-Dein-Denken-bestimmt-dein-Leben.jpg
ORGANIZER;CN=Life &amp; Hope e.V.:MAILTO:kontakt@life-hope.de
END:VEVENT
END:VCALENDAR