BEGIN:VCALENDAR
VERSION:2.0
PRODID:-//Life &amp; Hope e.V. - ECPv3.9.1//NONSGML v1.0//EN
CALSCALE:GREGORIAN
METHOD:PUBLISH
X-WR-CALNAME:Life &amp; Hope e.V.
X-ORIGINAL-URL:https://www.life-hope.de/de/
X-WR-CALDESC:Events for Life &amp; Hope e.V.
X-WR-TIMEZONE:Europe/Berlin
BEGIN:VEVENT
DTSTART;VALUE=DATE-TIME:20161119T140000
DTEND;VALUE=DATE-TIME:20161119T190000
DTSTAMP:20260421T200227
CREATED:20160914T165648
LAST-MODIFIED:20160914T170809
UID:3883-1479564000-1479582000@https://www.life-hope.de/de/
SUMMARY:Seminar in Leonberg, Stadthalle
DESCRIPTION:[vc_row content_type=" " border_style="solid"][vc_column css=".vc_custom_1443451458996{margin-left: 0px !important;}" width="1/1"][vc_column_text css=".vc_custom_1473864926219{margin-bottom: 50px !important;}"]Flyer zum Download      [/vc_column_text][/vc_column][/vc_row][vc_row][vc_column width="1/1"][vc_column_text]Referent: Brian Williamson\, Life &amp; Hope e.V.    Verwaiste Menschen haben es schwer\, in inniger Beziehung zueinander\, zu ihren Kindern sowie zu Menschen in Autoritätspositionen zu leben. Sie haben es in der Regel auch schwer\, sich selbst zu lieben und anzunehmen. Gegenwärtig sind auf der Welt Millionen von Menschen emotional gefangen\, weil sie von ihren Eltern verlassen wurden. Der einzige Weg diesen „Waisenzustand“ zu beenden  ist die Erfüllung mit Gottes Vaterliebe. Diese Liebe führt die Betroffenen in die Mündigkeit und in ein erfülltes Leben hinein und befähigt sie\, Gott Vater aus Liebe zu dienen\, anstatt weiter als Verwaiste in Leistungsdruck und Zorn zu leben.    Führst du ein „verwaistes“ Leben? Komm und empfange Gnade\, Liebe und Befreiung und lass dich durch den Geist des Vaters neu gestalten und beziehungsfähig machen.[/vc_column_text][/vc_column][/vc_row][vc_row][vc_column width="1/1"][vc_column_text]  Jetzt zum Seminar in Leonberg am 19.11.2016 anmelden          [/vc_column_text][contact-form-7 id="3128" title="Anmeldung zum Seminar in Leonberg am 19.11.2016"][/vc_column][/vc_row]
URL:https://www.life-hope.de/de/event/seminar-in-leonberg-stadthalle-2/
LOCATION:Römerstraße 110, Leonberg, 71229
CATEGORIES:Seminar
ATTACH;FMTTYPE=image/jpeg:http://www.life-hope.de/wp-content/uploads/2016/09/Leonberg-19-11-2016-Lebst-du-als-Waise-oder-in-göttlicher-Kindschaft.jpg
ORGANIZER;CN=Life &amp; Hope e.V.:MAILTO:kontakt@life-hope.de
END:VEVENT
END:VCALENDAR