BEGIN:VCALENDAR
VERSION:2.0
PRODID:-//Life &amp; Hope e.V. - ECPv3.9.1//NONSGML v1.0//EN
CALSCALE:GREGORIAN
METHOD:PUBLISH
X-WR-CALNAME:Life &amp; Hope e.V.
X-ORIGINAL-URL:https://www.life-hope.de/de/
X-WR-CALDESC:Events for Life &amp; Hope e.V.
X-WR-TIMEZONE:Europe/Berlin
BEGIN:VEVENT
DTSTART;VALUE=DATE-TIME:20170304T140000
DTEND;VALUE=DATE-TIME:20170304T190000
DTSTAMP:20260421T133833
CREATED:20161120T160011
LAST-MODIFIED:20170114T115315
UID:4145-1488636000-1488654000@https://www.life-hope.de/de/
SUMMARY:Seminar in Schwandorf-Dachelhofen, Immanuel Gemeinschaft Gemeinde e.V.
DESCRIPTION:[vc_row content_type=" " border_style="solid"][vc_column css=".vc_custom_1443451458996{margin-left: 0px !important;}" width="1/1"][vc_column_text css=".vc_custom_1484389148106{margin-bottom: 50px !important;}"]Flyer zum Download[/vc_column_text][/vc_column][/vc_row][vc_row][vc_column width="1/1"][vc_column_text]Referent: Brian Williamson\, Life &amp; Hope    Thema: Leben im Geist - Leben im Übernatürlichen    Um ein siegreiches Leben führen zu können\, lehrt uns die Bibel\, dass wir "im Geist wandeln sollen" und nicht im Fleisch. Ein fleischliches oder seelisches Leben zu führen bedeutet\, dass wir ohne Gottes Gnade\, Geist und Anweisung und aus eigener Kraft unser Leben als Christ gestalten. Im "Übernatürlichen" als Christ zu leben heißt\, dass wir von Gott abhängig sind\, um unser Ziel erreichen zu können\, ob das Heilung\, Bekehrungen oder andere Salbungen sind.    Wir werden lernen\, wie wir geistlich beten\, kämpfen\, lieben und dienen können\, wenn wir allein von Gott abhängig sind. Dann sind Siege und erreichte Ziele unser Lohn.[/vc_column_text][/vc_column][/vc_row][vc_row][vc_column width="1/1"][vc_column_text]  Jetzt zum Seminar am 04.03.2017 in Schwandorf-Dachelhofen anmelden          [/vc_column_text][contact-form-7 id="4213" title="Event Anmeldung zu Event Hauskreis"][/vc_column][/vc_row]
URL:https://www.life-hope.de/de/event/seminar-in-schwandorfdachelhofen-immanuel-gemeinschaft-gemeinde-e-v/
LOCATION:Hallenbadstraße 12, Schwandorf-Dachelhofen, 92421 
CATEGORIES:Seminar
ATTACH;FMTTYPE=image/jpeg:http://www.life-hope.de/wp-content/uploads/2016/11/Leben-im-Geist-Leben-im-Übernatürlichen-Schwandorf-Dachelhofen-04.03.2017.jpg
ORGANIZER;CN=Immanuel Gemeinschaft Gemeinde e.V.:MAILTO:lexa-dv@t-online.de
END:VEVENT
END:VCALENDAR