BEGIN:VCALENDAR
VERSION:2.0
PRODID:-//Life &amp; Hope e.V. - ECPv3.9.1//NONSGML v1.0//EN
CALSCALE:GREGORIAN
METHOD:PUBLISH
X-WR-CALNAME:Life &amp; Hope e.V.
X-ORIGINAL-URL:https://www.life-hope.de/de/
X-WR-CALDESC:Events for Life &amp; Hope e.V.
X-WR-TIMEZONE:Europe/Berlin
BEGIN:VEVENT
DTSTART;VALUE=DATE-TIME:20170305T100000
DTEND;VALUE=DATE-TIME:20170305T120000
DTSTAMP:20260421T133621
CREATED:20161120T155303
LAST-MODIFIED:20170114T114417
UID:4144-1488708000-1488715200@https://www.life-hope.de/de/
SUMMARY:Gottesdienst in Schwandorf-Dachelhofen, Immanuel Gemeinschaft Gemeinde e.V.
DESCRIPTION:[vc_row content_type=" " border_style="solid"][vc_column css=".vc_custom_1443451458996{margin-left: 0px !important;}" width="1/1"][vc_column_text css=".vc_custom_1447954594036{margin-bottom: 50px !important;}"][/vc_column][/vc_row][vc_row][vc_column width="1/1"][vc_column_text]  Jetzt zum Gottesdienst in Schwandorf-Dachelhofen am 05.03.2017 anmelden          [/vc_column_text][contact-form-7 id="4142" title="Anmeldung zum Gottesdienst in Schwandorf/Dachelhofen am 05.03.2017"][/vc_column][/vc_row]
URL:https://www.life-hope.de/de/event/gottesdienst-in-schwandorf-dachelhofen-immanuel-gemeinschaft-gemeinde-e-v/
LOCATION:Hallenbadstraße 12, Schwandorf-Dachelhofen, 92421 
CATEGORIES:Gottesdienst
ATTACH;FMTTYPE=image/jpeg:http://www.life-hope.de/wp-content/uploads/2016/11/IGG-Schwandorf_Logo.jpg
ORGANIZER;CN=Immanuel Gemeinschaft Gemeinde e.V.:MAILTO:lexa-dv@t-online.de
END:VEVENT
END:VCALENDAR