BEGIN:VCALENDAR
VERSION:2.0
PRODID:-//Life &amp; Hope e.V. - ECPv3.9.1//NONSGML v1.0//EN
CALSCALE:GREGORIAN
METHOD:PUBLISH
X-WR-CALNAME:Life &amp; Hope e.V.
X-ORIGINAL-URL:https://www.life-hope.de/de/
X-WR-CALDESC:Events for Life &amp; Hope e.V.
X-WR-TIMEZONE:Europe/Berlin
BEGIN:VEVENT
DTSTART;VALUE=DATE-TIME:20170408T140000
DTEND;VALUE=DATE-TIME:20170408T190000
DTSTAMP:20260421T120520
CREATED:20170116T175110
LAST-MODIFIED:20170116T175335
UID:4236-1491660000-1491678000@https://www.life-hope.de/de/
SUMMARY:Seminar in Bischofsheim a.d. Rhön, Christliche Gemeinde Bischofsheim
DESCRIPTION:[vc_row content_type=" " border_style="solid"][vc_column css=".vc_custom_1443451458996{margin-left: 0px !important;}" width="1/1"][vc_column_text css=".vc_custom_1484585339220{margin-bottom: 50px !important;}"]Flyer zum Download[/vc_column_text][/vc_column][/vc_row][vc_row][vc_column width="1/1"][vc_column_text]Referent: Brian Williamson\, Life &amp; Hope    Thema: Person und Wirken des Heiligen Geistes    Jesus selbst versprach in Johannes 15\,26\, dass er uns den Heiligen Geist senden wird. Er ist die dritte Person der Dreieinigkeit Gottes\, die vom Vater kommt\, um Christus zu bezeugen und zu verherrlichen: »Wenn ich beim Vater bin\, will ich euch jemanden senden\, der euch zur Seite stehen wird\, den Geist der Wahrheit. Er wird vom Vater kommen und bezeugen\, wer ich bin.» Sein Werk hier auf Erden begann\, als er an Pfingsten ausgesandt wurde\, um ein Tröster und eine Kraftquelle für den gesamten Leib Jesu zu sein.    Dieses Seminar wird dazu dienen\, den Heiligen Geist und seine Gegenwart zu erkennen. Anhand der Bibel wird aufgezeigt\, wie wir mit ihm zusammenleben und wirken können\, um in eine tiefe und innige Beziehung mit dem Heiligen Geist\, mit Jesus und dem Vater zu kommen.[/vc_column_text][/vc_column][/vc_row][vc_row][vc_column width="1/1"][vc_column_text]  Jetzt zum Seminar am 08.04.2017 in Bischofsheim anmelden          [/vc_column_text][contact-form-7 id="4235" title="Event Anmeldung zu Event Hauskreis"][/vc_column][/vc_row]
URL:https://www.life-hope.de/de/event/seminar-in-bischofsheim-a-d-rhoen-christliche-gemeinde-bischofsheim/
LOCATION:Bahnhofstraße 3, Bischofsheim/Rhön, 97653
CATEGORIES:Seminar
ATTACH;FMTTYPE=image/jpeg:http://www.life-hope.de/wp-content/uploads/2017/01/Person-und-Wirken-des-Heiligen-Geistes-Bischofsheim-08.04.2017.jpg
ORGANIZER;CN=Christliche Gemeinde Bischofsheim:MAILTO:gemeinde@cg-bischofsheim.de
END:VEVENT
END:VCALENDAR