BEGIN:VCALENDAR
VERSION:2.0
PRODID:-//Life &amp; Hope e.V. - ECPv3.9.1//NONSGML v1.0//EN
CALSCALE:GREGORIAN
METHOD:PUBLISH
X-WR-CALNAME:Life &amp; Hope e.V.
X-ORIGINAL-URL:https://www.life-hope.de/de/
X-WR-CALDESC:Events for Life &amp; Hope e.V.
X-WR-TIMEZONE:Europe/Berlin
BEGIN:VEVENT
DTSTART;VALUE=DATE-TIME:20170722T140000
DTEND;VALUE=DATE-TIME:20170722T190000
DTSTAMP:20260421T073729
CREATED:20170627T110424
LAST-MODIFIED:20171026T110525
UID:4823-1500732000-1500750000@https://www.life-hope.de/de/
SUMMARY:Seminar in Leonberg, Stadthalle
DESCRIPTION:[vc_row content_type=" " border_style="solid"][vc_column css=".vc_custom_1443451458996{margin-left: 0px !important;}" width="1/1"][vc_column_text css=".vc_custom_1498819826972{margin-bottom: 50px !important;}"]Flyer zum Download    [/vc_column_text][/vc_column][/vc_row][vc_row][vc_column width="1/1"][vc_column_text]Christus erkennen - in Herrlichkeit leben   Herrlichkeit ist die Ebene der Weisheit\, Offenbarungen und Vollmacht    Viele von uns sind ständig auf der Suche nach "mehr"\, weil wir nicht erkannt haben\, dass wir in Christus bereits alles besitzen. Die Schrift lehrt uns\, dass für uns Christen eine bisher noch nicht erreichte Ebene zu entdecken ist\, wenn wir innig mit dem Vater der Herrlichkeit leben und ihn anbeten. Wir werden Weisheit und Offenbarungen von IHM empfangen\, um in die Auferstehungsmacht einzutreten und in dieser Vollmacht handeln zu können.    Unser Erbteil in Christus ist so gewaltig und tiefgründig\, dass wir es ohne Gottes Hilfe nicht begreifen können. Paulus betet\, "dass der Gott unseres Herrn Jesus Christus\, der Vater der Herrlichkeit\, euch gebe den Geist der Weisheit und der Offenbarung\, ihn zu erkennen."    Bei diesem Seminar werden wir Geheimnisse und Verborgenes beim Vater geoffenbart bekommen\, um Reich Gottes auf Erden zu bauen\, aber auch um unsere Beziehung zu IHM zu vertiefen. Wir werden die Ebene der Herrlichkeit kennen lernen\, um darin in jedem Bereich unseres Lebens zu leben.    Referent: Brian Williamson\, Life &amp; Hope e.V.[/vc_column_text][/vc_column][/vc_row][vc_row][vc_column width="1/1"][vc_column_text]  Jetzt zum Seminar in Leonberg am 22.07.2017 anmelden          [/vc_column_text][contact-form-7 id="4825" title="Anmeldung zum Seminar in Leonberg am 22.07.2017"][/vc_column][/vc_row]
URL:https://www.life-hope.de/de/event/seminar-in-leonberg-stadthalle-6/
LOCATION:Römerstraße 110, Leonberg, 71229
CATEGORIES:Seminar
ATTACH;FMTTYPE=image/jpeg:http://www.life-hope.de/wp-content/uploads/2017/06/Fotolia_122870647_S-e1498820409810.jpg
ORGANIZER;CN=Life &amp; Hope e.V.:MAILTO:kontakt@life-hope.de
END:VEVENT
END:VCALENDAR