BEGIN:VCALENDAR
VERSION:2.0
PRODID:-//Life &amp; Hope e.V. - ECPv3.9.1//NONSGML v1.0//EN
CALSCALE:GREGORIAN
METHOD:PUBLISH
X-WR-CALNAME:Life &amp; Hope e.V.
X-ORIGINAL-URL:https://www.life-hope.de/de/
X-WR-CALDESC:Events for Life &amp; Hope e.V.
X-WR-TIMEZONE:Europe/Berlin
BEGIN:VEVENT
DTSTART;VALUE=DATE-TIME:20170827T100000
DTEND;VALUE=DATE-TIME:20170827T120000
DTSTAMP:20260421T062354
CREATED:20160109T181253
LAST-MODIFIED:20170803T201631
UID:3312-1503828000-1503835200@https://www.life-hope.de/de/
SUMMARY:Gottesdienst in Lampertheim, Evangelisch-Freikirchliche Gemeinde (Baptisten)
DESCRIPTION:[vc_row content_type=" " border_style="solid"][vc_column css=".vc_custom_1443451458996{margin-left: 0px !important;}" width="1/1"][vc_column_text css=".vc_custom_1447954594036{margin-bottom: 50px !important;}"][/vc_column][/vc_row][vc_row][vc_column width="1/1"][vc_column_text]  Jetzt zum Gottesdienst in Lampertheim am 20.08.2017 anmelden          [/vc_column_text][contact-form-7 id="3310" title="Anmeldung zum Gottesdienst in Lampertheim am 08.05.2016"][/vc_column][/vc_row]
URL:https://www.life-hope.de/de/event/gottesdienst-evangelisch-freikirchliche-gemeinde-baptisten-lampertheim/
LOCATION:Römerstraße 120, Lampertheim, 68623 
CATEGORIES:Gottesdienst
ATTACH;FMTTYPE=image/jpeg:http://www.life-hope.de/wp-content/uploads/2016/01/Lampertheim-Logo.jpg
ORGANIZER;CN=Evangelisch-Freikirchliche Gemeinde (Baptisten) Lampertheim:MAILTO:info@baptistenlampertheim.de
END:VEVENT
END:VCALENDAR