BEGIN:VCALENDAR
VERSION:2.0
PRODID:-//Life &amp; Hope e.V. - ECPv3.9.1//NONSGML v1.0//EN
CALSCALE:GREGORIAN
METHOD:PUBLISH
X-WR-CALNAME:Life &amp; Hope e.V.
X-ORIGINAL-URL:https://www.life-hope.de/de/
X-WR-CALDESC:Events for Life &amp; Hope e.V.
X-WR-TIMEZONE:Europe/Berlin
BEGIN:VEVENT
DTSTART;VALUE=DATE-TIME:20171029T093000
DTEND;VALUE=DATE-TIME:20171029T170000
DTSTAMP:20260421T030459
CREATED:20171020T190330
LAST-MODIFIED:20171020T193706
UID:5122-1509269400-1509296400@https://www.life-hope.de/de/
SUMMARY:Kirche im Aufbruch e.V. Nordalb - Freundestag am 29.10.2017
DESCRIPTION:[vc_row content_type=" " border_style="solid"][vc_column css=".vc_custom_1443451458996{margin-left: 0px !important;}" width="1/1"][vc_column_text css=".vc_custom_1508518833234{margin-bottom: 50px !important;}"][/vc_column][/vc_row][vc_row content_type=" " border_style="solid"][vc_column css=".vc_custom_1443451458996{margin-left: 0px !important;}" width="1/1"][vc_column_text css=".vc_custom_1508518917187{margin-bottom: 50px !important;}"]Referent: Brian Williamson\, Life &amp; Hope e.V.    Thema: Siegreich leben    Jesus sagt in Lukas 17\,21b: "Das Reich Gottes ist inwendig in euch!" Somit haben wir alles\, was wir brauchen\, um in Jesu Namen regieren zu können. Wir sind dazu berufen\, in einem königlichen und priesterlichen Status zu leben und darin zu regieren. Es geht um die königliche und priesterliche Autorität Gottes in Deinem Leben – um die Expansion des Reiches Gottes hier und jetzt. Nimm diese Autorität wahr und erringe Deine Siege.[/vc_column_text][/vc_column][/vc_row][vc_row][vc_column][vc_cta_button title="Onlineanmeldung" target="_self" color="btn-primary" icon="none" size="wpb_regularsize" position="cta_align_left" href="https://www.kirche-im-aufbruch.de/no_cache/programm/onlineanmeldung.html?sword_list%5B%5D=Anmeldung"][/vc_column][/vc_row]
URL:https://www.life-hope.de/de/event/kirche-im-aufbruch-e-v-nordablb-freundestag-am-29-10-2017/
LOCATION:Nordalb 1, Deggingen, 73326
CATEGORIES:Freundestreffen,Gottesdienst
ATTACH;FMTTYPE=image/jpeg:http://www.life-hope.de/wp-content/uploads/2017/10/Diagramm-mit-Krone_522571.jpg
ORGANIZER;CN=Kirche im Aufbruch e.V.:MAILTO:info@kirche-im-aufbruch.de
END:VEVENT
END:VCALENDAR