BEGIN:VCALENDAR
VERSION:2.0
PRODID:-//Life &amp; Hope e.V. - ECPv3.9.1//NONSGML v1.0//EN
CALSCALE:GREGORIAN
METHOD:PUBLISH
X-WR-CALNAME:Life &amp; Hope e.V.
X-ORIGINAL-URL:https://www.life-hope.de/de/
X-WR-CALDESC:Events for Life &amp; Hope e.V.
X-WR-TIMEZONE:Europe/Berlin
BEGIN:VEVENT
DTSTART;VALUE=DATE-TIME:20171123T200000
DTEND;VALUE=DATE-TIME:20171123T220000
DTSTAMP:20260421T012243
CREATED:20171109T092542
LAST-MODIFIED:20171109T093842
UID:5177-1511467200-1511474400@https://www.life-hope.de/de/
SUMMARY:Hauskreis Volksmission Göppingen am 23.11.2017
DESCRIPTION:[vc_row content_type=" " border_style="solid"][vc_column css=".vc_custom_1443451458996{margin-left: 0px !important;}" width="1/1"][vc_column_text css=".vc_custom_1447954594036{margin-bottom: 50px !important;}"][/vc_column][/vc_row]
URL:https://www.life-hope.de/de/event/hauskreis-volksmission-goeppingen-am-23-11-2017/
LOCATION:Hohenstaufenstr. 100, Göppingen, 73033 
CATEGORIES:Hausversammlung
ATTACH;FMTTYPE=image/jpeg:http://www.life-hope.de/wp-content/uploads/2017/04/Fotolia_82231204_S-Kopie-2.jpg
ORGANIZER;CN=Volksmission Göppingen, Evi Spangler:MAILTO:evispangler@web.de
END:VEVENT
END:VCALENDAR