BEGIN:VCALENDAR
VERSION:2.0
PRODID:-//Life &amp; Hope e.V. - ECPv3.9.1//NONSGML v1.0//EN
CALSCALE:GREGORIAN
METHOD:PUBLISH
X-WR-CALNAME:Life &amp; Hope e.V.
X-ORIGINAL-URL:https://www.life-hope.de/de/
X-WR-CALDESC:Events for Life &amp; Hope e.V.
X-WR-TIMEZONE:Europe/Berlin
BEGIN:VEVENT
DTSTART;VALUE=DATE-TIME:20180113T190000
DTEND;VALUE=DATE-TIME:20180113T220000
DTSTAMP:20260420T215535
CREATED:20171020T182952
LAST-MODIFIED:20171206T105852
UID:5093-1515870000-1515880800@https://www.life-hope.de/de/
SUMMARY:Christen im Beruf e. V. Chapter Nürnberg
DESCRIPTION:[vc_row content_type=" " border_style="solid"][vc_column css=".vc_custom_1443451458996{margin-left: 0px !important;}" width="1/1"][vc_column_text css=".vc_custom_1512553362413{margin-bottom: 50px !important;}"]Einladung zum Download[/vc_column_text][/vc_column][/vc_row][vc_row][vc_column width="1/1"][vc_column_text]Thema: Mut zum Neuanfang      Haben Sie bemerkt\, dass Ihr Leben nicht so verläuft\, wie Sie es geplant haben? Schwelgen Sie manchmal in der Vergangenheit anstatt sich auf das zu konzentrieren\, was wirklich zählt? Brian Williamson wird aus eigener Erfahrung berichten\, wie er und unzählige andere Menschen zu einem „Neustart“ im Leben gekommen sind. Wenn Sie die Vergangenheit hinter sich lassen\, dann werden Sie Ihre Ziele erreichen und Erfolg im Leben haben. Konzentrieren Sie sich auf das\, was wirklich wichtig ist: die Gegenwart und Zukunft.    Veranstalter: Christen im Beruf e. V. Chapter Nürnberg      Referent: Brian Williamson\, Life &amp; Hope e.V.[/vc_column_text][/vc_column][/vc_row][vc_row][vc_column width="1/1"][vc_column_text]  Jetzt zum Chapter Nürnberg am 13.01.2018 anmelden          [/vc_column_text][contact-form-7 id="5098" title="Anmeldung zum Chapter Nürnberg am 13.01.2018"][/vc_column][/vc_row]
URL:https://www.life-hope.de/de/event/christen-im-beruf-e-v-chapter-nuernberg/
LOCATION:Pillenreuther Straße 1, Nürnberg, 90459 
ORGANIZER;CN=Christen im Beruf e. V. Chapter Nürnberg; Herr Helmut Hoffmann:MAILTO:hoffmann@christen-im-beruf-nuernberg.de
END:VEVENT
END:VCALENDAR