BEGIN:VCALENDAR
VERSION:2.0
PRODID:-//Life &amp; Hope e.V. - ECPv3.9.1//NONSGML v1.0//EN
CALSCALE:GREGORIAN
METHOD:PUBLISH
X-WR-CALNAME:Life &amp; Hope e.V.
X-ORIGINAL-URL:https://www.life-hope.de/de/
X-WR-CALDESC:Events for Life &amp; Hope e.V.
X-WR-TIMEZONE:Europe/Berlin
BEGIN:VEVENT
DTSTART;VALUE=DATE-TIME:20180216T180000
DTEND;VALUE=DATE-TIME:20180218T140000
DTSTAMP:20260420T201105
CREATED:20180128T161333
LAST-MODIFIED:20181129T102143
UID:5486-1518804000-1518962400@https://www.life-hope.de/de/
SUMMARY:Heilungsseminar Kirche im Aufbruch e.V. Nordalb
DESCRIPTION:[vc_row content_type=" " border_style="solid"][vc_column css=".vc_custom_1443451458996{margin-left: 0px !important;}" width="1/1"][vc_column_text css=".vc_custom_1508518833234{margin-bottom: 50px !important;}"][/vc_column][/vc_row][vc_row content_type=" " border_style="solid"][vc_column css=".vc_custom_1443451458996{margin-left: 0px !important;}" width="1/1"][vc_column_text css=".vc_custom_1517152897007{margin-bottom: 50px !important;}"]Seminarleitung/Referenten: Dr. Christoph u. Utta Häselbarth  Anbetung: Brian Williamson\, Life &amp; Hope e.V.    Thema: Heilung empfangen und weitergeben    Das Seminar beinhaltet unter anderem folgende Themen:     Der Heilungsauftrag Jesu an seine Jünger   Unseren Stand in Jesus und unsere Vollmacht annehmen   Verschiedene Formen des Gebets\, um Heilung zu empfangen   Krankheitsauslöser erkennen und entmachten   Wie unser Glaube an Heilung zunimmt und Heilung ergreifen und behalten    Wir werden über Heilung lehren und in jeder Einheit auch um Heilung beten![/vc_column_text][/vc_column][/vc_row][vc_row][vc_column][vc_cta_button title="Onlineanmeldung" target="_self" color="btn-primary" icon="none" size="wpb_regularsize" position="cta_align_left" href="https://www.kirche-im-aufbruch.de/programm/onlineanmeldung.html"][/vc_column][/vc_row]
URL:https://www.life-hope.de/de/event/heilungsseminar-kirche-im-aufbruch-e-v-nordalb-16-02-18-02-2018/
LOCATION:Nordalb 1, Deggingen, 73326
CATEGORIES:Seminar
ORGANIZER;CN=Kirche im Aufbruch e.V.:MAILTO:info@kirche-im-aufbruch.de
END:VEVENT
END:VCALENDAR