BEGIN:VCALENDAR
VERSION:2.0
PRODID:-//Life &amp; Hope e.V. - ECPv3.9.1//NONSGML v1.0//EN
CALSCALE:GREGORIAN
METHOD:PUBLISH
X-WR-CALNAME:Life &amp; Hope e.V.
X-ORIGINAL-URL:https://www.life-hope.de/de/
X-WR-CALDESC:Events for Life &amp; Hope e.V.
X-WR-TIMEZONE:Europe/Berlin
BEGIN:VEVENT
DTSTART;VALUE=DATE-TIME:20180518T200000
DTEND;VALUE=DATE-TIME:20180521T200000
DTSTAMP:20260420T143049
CREATED:20171206T111721
LAST-MODIFIED:20180128T165752
UID:5288-1526673600-1526932800@https://www.life-hope.de/de/
SUMMARY:Christen im Beruf e.V. Chapter Nürnberg - Pfingstkonferenz in Hubmersberg
DESCRIPTION:[vc_row content_type=" " border_style="solid"][vc_column css=".vc_custom_1443451458996{margin-left: 0px !important;}" width="1/1"][vc_column_text css=".vc_custom_1516183715247{margin-bottom: 50px !important;}"]Einladung zum Download[/vc_column_text][/vc_column][/vc_row][vc_row][vc_column width="1/1"][vc_column_text]  Jetzt zur Pfingstkonferenz von Christen im Beruf e.V. Chapter Nürnberg vom 18.05. - 21.05.2018 in Hubmersberg anmelden          [/vc_column_text][contact-form-7 id="5291"][/vc_column][/vc_row]
URL:https://www.life-hope.de/de/event/christen-im-beruf-seminar-in-hubmersberg/
LOCATION:Ringhotel Lindenhof, Hubmersberg 2 , Pommelsbrunn, Bayern, 91224
CATEGORIES:Seminar
ORGANIZER;CN=Christen im Beruf e.V. Chapter Nürnberg:MAILTO:hoffmann@christen-im-beruf-nuernberg.de
END:VEVENT
END:VCALENDAR