BEGIN:VCALENDAR
VERSION:2.0
PRODID:-//Life &amp; Hope e.V. - ECPv3.9.1//NONSGML v1.0//EN
CALSCALE:GREGORIAN
METHOD:PUBLISH
X-WR-CALNAME:Life &amp; Hope e.V.
X-ORIGINAL-URL:https://www.life-hope.de/de/
X-WR-CALDESC:Events for Life &amp; Hope e.V.
X-WR-TIMEZONE:Europe/Berlin
BEGIN:VEVENT
DTSTART;VALUE=DATE-TIME:20180714T140000
DTEND;VALUE=DATE-TIME:20180714T190000
DTSTAMP:20260420T113402
CREATED:20171206T095332
LAST-MODIFIED:20180527T181728
UID:5249-1531576800-1531594800@https://www.life-hope.de/de/
SUMMARY:Prophetische Schulung in Bischofsheim a.d. Rhön, Christliche Gemeinde Bischofsheim
DESCRIPTION:[vc_row content_type=" " border_style="solid"][vc_column css=".vc_custom_1443451458996{margin-left: 0px !important;}" width="1/1"][vc_column_text css=".vc_custom_1527436730743{margin-bottom: 50px !important;}"]FLYER zum Download[/vc_column_text][/vc_column][/vc_row][vc_row][vc_column width="1/1"][vc_column_text]  Prophetischen Schulung  »Prophetie und Fünffältiger Dienst«  Die Gemeinde Jesu Christi wurde mit Kraft\, Vollmacht und Gaben ausgestattet\, um den Auftrag\, den Jesus ihr übertragen hat\, zu erfüllen. Brian Williamson wird über diese drei Punkte lehren und Zeit einräumen\, um die Gaben zu üben\, die uns geschenkt wurden.    Jedes wiedergeborene Kind Gottes sollte seine Salbung und Gaben erkennen\, annehmen und ausleben\, damit sich das Reich Gottes ausbreiten kann und Gottes Herrschaft und Ehre in dieser Welt sichtbar wird.[/vc_column_text][/vc_column][/vc_row][vc_row][vc_column width="1/1"][vc_column_text]          [/vc_column_text][/vc_column][/vc_row][vc_row][vc_column width="1/1"][vc_column_text]  Jetzt zum Seminar in Bischofsheim am 14.07.2018 anmelden          [/vc_column_text][contact-form-7 id="5253" title="Event Anmeldung Seminar"][/vc_column][/vc_row][vc_row][vc_column width="1/1"][vc_column_text][/vc_column][/vc_row]
URL:https://www.life-hope.de/de/event/prophetische-schulung-in-bischofsheim-a-d-rhoen-christliche-gemeinde-bischofsheim-duplikat/
LOCATION:Bahnhofstraße 3, Bischofsheim/Rhön, 97653
CATEGORIES:Seminar
ATTACH;FMTTYPE=image/gif:http://www.life-hope.de/wp-content/uploads/2017/01/Logo-CG-Bischofsheim.gif
ORGANIZER;CN=Christliche Gemeinde Bischofsheim:MAILTO:gemeinde@cg-bischofsheim.de
END:VEVENT
END:VCALENDAR