BEGIN:VCALENDAR
VERSION:2.0
PRODID:-//Life &amp; Hope e.V. - ECPv3.9.1//NONSGML v1.0//EN
CALSCALE:GREGORIAN
METHOD:PUBLISH
X-WR-CALNAME:Life &amp; Hope e.V.
X-ORIGINAL-URL:https://www.life-hope.de/de/
X-WR-CALDESC:Events for Life &amp; Hope e.V.
X-WR-TIMEZONE:Europe/Berlin
BEGIN:VEVENT
DTSTART;VALUE=DATE-TIME:20180916T100000
DTEND;VALUE=DATE-TIME:20180916T120000
DTSTAMP:20260420T080950
CREATED:20180915T154352
LAST-MODIFIED:20180915T154352
UID:5992-1537092000-1537099200@https://www.life-hope.de/de/
SUMMARY:Gottesdienst in Hubmersberg, Gemeinde "Der Weg zur Freiheit" e.V.
DESCRIPTION:[vc_row content_type=" " border_style="solid"][vc_column css=".vc_custom_1443451458996{margin-left: 0px !important;}" width="1/1"][vc_column_text css=".vc_custom_1447954594036{margin-bottom: 50px !important;}"][/vc_column][/vc_row][vc_row][vc_column width="1/1"][vc_column_text]  Jetzt zum Gottesdienst am 29.04.2018 in Hubmersberg anmelden          [/vc_column_text][contact-form-7 id="5632"][/vc_column][/vc_row]
URL:https://www.life-hope.de/de/event/gottesdienst-in-hubmersberg-gemeinde-der-weg-zur-freiheit-e-v-duplikat-3/
LOCATION:Hotel Lindenhof, Hubmersberg 2 , Hubmersberg, Bayern, 91224
CATEGORIES:Gottesdienst
ATTACH;FMTTYPE=image/jpeg:http://www.life-hope.de/wp-content/uploads/2015/11/Hotel-Lindenhof.jpg
ORGANIZER;CN=Gemeinde &#8222;Der Weg zur Freiheit&#8220; e.V.:MAILTO:guenter.adelmann@t-online.de
END:VEVENT
END:VCALENDAR