BEGIN:VCALENDAR
VERSION:2.0
PRODID:-//Life &amp; Hope e.V. - ECPv3.9.1//NONSGML v1.0//EN
CALSCALE:GREGORIAN
METHOD:PUBLISH
X-WR-CALNAME:Life &amp; Hope e.V.
X-ORIGINAL-URL:https://www.life-hope.de/de/
X-WR-CALDESC:Events for Life &amp; Hope e.V.
X-WR-TIMEZONE:Europe/Berlin
BEGIN:VEVENT
DTSTART;VALUE=DATE-TIME:20181014T100000
DTEND;VALUE=DATE-TIME:20181014T120000
DTSTAMP:20260420T063228
CREATED:20181013T134442
LAST-MODIFIED:20181013T135338
UID:6017-1539511200-1539518400@https://www.life-hope.de/de/
SUMMARY:Gottesdienst in Weikersheim, Volksmission Weikersheim
DESCRIPTION:[vc_row content_type=" " border_style="solid"][vc_column css=".vc_custom_1443451458996{margin-left: 0px !important;}" width="1/1"][vc_column_text css=".vc_custom_1447954594036{margin-bottom: 50px !important;}"][/vc_column][/vc_row]
URL:https://www.life-hope.de/de/event/gottesdienst-in-weikersheim-volksmission-weikersheim-duplikat/
LOCATION:Am Bahnhof 3, Weikersheim, 97990
CATEGORIES:Gottesdienst
ATTACH;FMTTYPE=image/jpeg:http://www.life-hope.de/wp-content/uploads/2017/07/VM-Weikersheim-Bild.jpg
ORGANIZER;CN=Volksmission Weikersheim:MAILTO:info@vm-weikersheim.de
END:VEVENT
END:VCALENDAR