BEGIN:VCALENDAR
VERSION:2.0
PRODID:-//Life &amp; Hope e.V. - ECPv3.9.1//NONSGML v1.0//EN
CALSCALE:GREGORIAN
METHOD:PUBLISH
X-WR-CALNAME:Life &amp; Hope e.V.
X-ORIGINAL-URL:https://www.life-hope.de/de/
X-WR-CALDESC:Events for Life &amp; Hope e.V.
X-WR-TIMEZONE:Europe/Berlin
BEGIN:VEVENT
DTSTART;VALUE=DATE-TIME:20181110T140000
DTEND;VALUE=DATE-TIME:20181110T190000
DTSTAMP:20260420T050610
CREATED:20181013T155834
LAST-MODIFIED:20181013T161044
UID:6031-1541858400-1541876400@https://www.life-hope.de/de/
SUMMARY:Der Sieg gehört Dir! Veranstaltung in Leonberg
DESCRIPTION:[vc_row content_type=" " border_style="solid"][vc_column css=".vc_custom_1443451458996{margin-left: 0px !important;}" width="1/1"][vc_column_text css=".vc_custom_1539439521614{margin-bottom: 50px !important;}"]FLYER zum Download[/vc_column_text][/vc_column][/vc_row][vc_row][vc_column width="1/1"][vc_column_text]  DER SIEG GEHÖRT DIR    Die Lügen des Teufels durch Glauben und Bekennen zum Schweigen bringen    Hörst Du mehr auf die Stimme des Teufels als auf die Stimme Jesu? Dann wirst Du ein Leben als Verlierer führen. Die Stimme Jesu hingegen ist die Wahrheit undführt Dich in ein siegreiches Leben hinein. Du empfängst Freiheit\, Gesundheit\, Wohlstand\, Salbungen und vieles mehr\, wenn Du den Lügen Satans befiehlst zu weichen. Jesus sagte: "Das Reich Gottes ist inwendig in Euch!" Somit haben wir alles was wir brauchen\, um in Jesu Namen regieren und siegreich leben zu können.  Du bist ein Gewinner und kein Verlierer!    Referent: Brian Williamson\, Life &amp; Hope e.V.[/vc_column_text][/vc_column][/vc_row][vc_row][vc_column width="1/1"][vc_column_text]  Jetzt zur Veranstaltung in Leonberg am 10.11.2018 anmelden          [/vc_column_text][contact-form-7 id="6035"][/vc_column][/vc_row]
URL:https://www.life-hope.de/de/event/der-sieg-gehoert-dir-leonberg-stadthalle/
LOCATION:Römerstraße 110, Leonberg, 71229
CATEGORIES:Seminar
ATTACH;FMTTYPE=image/jpeg:http://www.life-hope.de/wp-content/uploads/2018/03/grün-e1652886619985.jpg
ORGANIZER;CN=Life &amp; Hope e.V.:MAILTO:kontakt@life-hope.de
END:VEVENT
END:VCALENDAR