BEGIN:VCALENDAR
VERSION:2.0
PRODID:-//Life &amp; Hope e.V. - ECPv3.9.1//NONSGML v1.0//EN
CALSCALE:GREGORIAN
METHOD:PUBLISH
X-WR-CALNAME:Life &amp; Hope e.V.
X-ORIGINAL-URL:https://www.life-hope.de/de/
X-WR-CALDESC:Events for Life &amp; Hope e.V.
X-WR-TIMEZONE:Europe/Berlin
BEGIN:VEVENT
DTSTART;VALUE=DATE-TIME:20190105T140000
DTEND;VALUE=DATE-TIME:20190105T190000
DTSTAMP:20260420T015059
CREATED:20181124T100257
LAST-MODIFIED:20181205T093050
UID:6145-1546696800-1546714800@https://www.life-hope.de/de/
SUMMARY:Christen und ihr Recht auf Heilung! Veranstaltung in Leonberg
DESCRIPTION:[vc_row content_type=" " border_style="solid"][vc_column css=".vc_custom_1443451458996{margin-left: 0px !important;}" width="1/1"][vc_column_text css=".vc_custom_1543050343084{margin-bottom: 50px !important;}"]FLYER zum Download[/vc_column_text][/vc_column][/vc_row][vc_row][vc_column width="1/1"][vc_column_text]  CHRISTEN UND IHR RECHT AUF HEILUNG    Die Bibel lehrt\, dass Jesus Christus auf diese Welt gekommen ist um die „Verlorenen zu suchen“ und um ihnen den Weg zurück zu ihrem himmlischen Vater zu zeigen. Auch Segnungen und Wunder\, besonders körperliche und seelische Heilung\, sollen sie empfangen.    Nach der Lehre zu diesem Thema werden alle Teilnehmer anhand des Wortes aus Markus 16\,15-18 in die Praxis des Heilungsdienstes eingeführt.    Sei bei diesem besonderen Nachmittag dabei und bringe Freunde\, Suchende und Interessierte mit.    Referent: Brian Williamson\, Life &amp; Hope e.V.[/vc_column_text][/vc_column][/vc_row][vc_row][vc_column width="1/1"][vc_column_text]  Jetzt zur Veranstaltung in Leonberg am 05.01.2019 anmelden          [/vc_column_text][contact-form-7 id="6136"][/vc_column][/vc_row]
URL:https://www.life-hope.de/de/event/christen-und-ihr-recht-auf-heilung-veranstaltung-in-leonberg/
LOCATION:Römerstraße 110, Leonberg, 71229
CATEGORIES:Seminar
ATTACH;FMTTYPE=image/png:http://www.life-hope.de/wp-content/uploads/2014/10/Bild-Website.png
ORGANIZER;CN=Life &amp; Hope e.V.:MAILTO:kontakt@life-hope.de
END:VEVENT
END:VCALENDAR