BEGIN:VCALENDAR
VERSION:2.0
PRODID:-//Life &amp; Hope e.V. - ECPv3.9.1//NONSGML v1.0//EN
CALSCALE:GREGORIAN
METHOD:PUBLISH
X-WR-CALNAME:Life &amp; Hope e.V.
X-ORIGINAL-URL:https://www.life-hope.de/de/
X-WR-CALDESC:Events for Life &amp; Hope e.V.
X-WR-TIMEZONE:Europe/Berlin
BEGIN:VEVENT
DTSTART;VALUE=DATE-TIME:20190309T140000
DTEND;VALUE=DATE-TIME:20190309T190000
DTSTAMP:20260419T222852
CREATED:20181205T094851
LAST-MODIFIED:20190222T195220
UID:6224-1552140000-1552158000@https://www.life-hope.de/de/
SUMMARY:Veranstaltung in Leonberg
DESCRIPTION:[vc_row content_type=" " border_style="solid"][vc_column css=".vc_custom_1443451458996{margin-left: 0px !important;}" width="1/1"][vc_column_text css=".vc_custom_1550861532499{margin-bottom: 50px !important;}"]FLYER zum Download[/vc_column_text][/vc_column][/vc_row][vc_row][vc_column width="1/1"][vc_column_text]  JESUS BEFREIT DIE GEFANGENEN    Der Mensch wird in Sünden geboren und ist dadurch ein "Gefangener". Da kam Jesus\, starb für unsere Sünden\, bezahlte den Preis und nun kann jeder befreit werden\, der zu ihm kommt. Komme und empfange deine Befreiung von Sünden\, Krankheiten\, Erbschuld\, Angst\, einfach von allem!    Nach der Lehre zu diesem Thema werden die Teilnehmer anhand des Wortes aus Markus 16\,15-18 in die Praxis dieses Dienstes eingeführt.    Referent: Brian Williamson\, Life &amp; Hope e.V.[/vc_column_text][/vc_column][/vc_row][vc_row][vc_column width="1/1"][vc_column_text]  Jetzt zur Veranstaltung in Leonberg am 09.03.2019 anmelden          [/vc_column_text][contact-form-7 id="6137"][/vc_column][/vc_row]
URL:https://www.life-hope.de/de/event/veranstaltung-in-leonberg-duplikat-2/
LOCATION:Römerstraße 110, Leonberg, 71229
CATEGORIES:Seminar
ATTACH;FMTTYPE=image/jpeg:http://www.life-hope.de/wp-content/uploads/2018/12/Fotolia_2613296_XS.jpg
ORGANIZER;CN=Life &amp; Hope e.V.:MAILTO:kontakt@life-hope.de
END:VEVENT
END:VCALENDAR