BEGIN:VCALENDAR
VERSION:2.0
PRODID:-//Life &amp; Hope e.V. - ECPv3.9.1//NONSGML v1.0//EN
CALSCALE:GREGORIAN
METHOD:PUBLISH
X-WR-CALNAME:Life &amp; Hope e.V.
X-ORIGINAL-URL:https://www.life-hope.de/de/
X-WR-CALDESC:Events for Life &amp; Hope e.V.
X-WR-TIMEZONE:Europe/Berlin
BEGIN:VEVENT
DTSTART;VALUE=DATE-TIME:20190414T160000
DTEND;VALUE=DATE-TIME:20190414T180000
DTSTAMP:20260419T204342
CREATED:20190308T120923
LAST-MODIFIED:20190308T121231
UID:6625-1555257600-1555264800@https://www.life-hope.de/de/
SUMMARY:Gottes Herrlichkeit erleben
DESCRIPTION:[vc_row][vc_column width="1/1"][vc_column_text]Flyer zum DOWNLOAD[/vc_column_text][/vc_column][/vc_row][vc_row][vc_column width="1/1"][vc_column_text]Gottes Herrlichkeit erleben    Referent: Brian Williamson\, Life &amp; Hope e.V.[/vc_column_text][/vc_column][/vc_row]
URL:https://www.life-hope.de/de/event/gottes-herrlichkeit-erleben/
LOCATION:Römerstraße 110, Leonberg, 71229
CATEGORIES:Gottesdienst
ATTACH;FMTTYPE=image/jpeg:http://www.life-hope.de/wp-content/uploads/2018/11/Fotolia_74844603_S_Website-e1543316285108.jpg
ORGANIZER;CN=Life &amp; Hope e.V.:MAILTO:kontakt@life-hope.de
END:VEVENT
END:VCALENDAR