BEGIN:VCALENDAR
VERSION:2.0
PRODID:-//Life &amp; Hope e.V. - ECPv3.9.1//NONSGML v1.0//EN
CALSCALE:GREGORIAN
METHOD:PUBLISH
X-WR-CALNAME:Life &amp; Hope e.V.
X-ORIGINAL-URL:https://www.life-hope.de/de/
X-WR-CALDESC:Events for Life &amp; Hope e.V.
X-WR-TIMEZONE:Europe/Berlin
BEGIN:VEVENT
DTSTART;VALUE=DATE-TIME:20190518T140000
DTEND;VALUE=DATE-TIME:20190518T190000
DTSTAMP:20260419T190130
CREATED:20190402T181758
LAST-MODIFIED:20190402T181855
UID:6223-1558188000-1558206000@https://www.life-hope.de/de/
SUMMARY:Veranstaltung in Leonberg
DESCRIPTION:[vc_row content_type=" " border_style="solid"][vc_column css=".vc_custom_1443451458996{margin-left: 0px !important;}" width="1/1"][vc_column_text css=".vc_custom_1554221812670{margin-bottom: 50px !important;}"]FLYER zum Download[/vc_column_text][/vc_column][/vc_row][vc_row][vc_column width="1/1"][vc_column_text]  DIE WENDE IN DEINEM LEBEN KOMMT    Das allergrößte Wunder im Leben eines Menschen ist\, wenn er sich zu Jesus Christus hinwendet und ihn zu seinem Erlöser von Sünde und Tod macht. Gott verspricht uns in seinem Wort\, dass er sich niemals von uns abwenden wird und abwenden kann\, weil er sein Wort hält. Gott sagt auch\, dass er immer wieder eine Wende in unserem Leben bringen will\, besonders wenn wir in Not oder unlösbaren Situationen sind.    In Jeremia 30\,3 verspricht Gott Israel und uns\, dass er „unser Geschick wenden will“. Es gibt eine Wende in Deinem Leben\, egal wie verfahren Deine momentane Situation ist. Gott hat es versprochen und er wird es tun. Erwarte an diesem Samstag eine Wende!    Referent: Brian Williamson\, Life &amp; Hope e.V.[/vc_column_text][/vc_column][/vc_row][vc_row][vc_column width="1/1"][vc_column_text]  Jetzt zur Veranstaltung in Leonberg am 18.05.2019 anmelden          [/vc_column_text][contact-form-7 id="6138"][/vc_column][/vc_row]
URL:https://www.life-hope.de/de/event/veranstaltung-in-leonberg-4/
LOCATION:Römerstraße 110, Leonberg, 71229
CATEGORIES:Seminar
ATTACH;FMTTYPE=image/jpeg:http://www.life-hope.de/wp-content/uploads/2019/04/AdobeStock_136760977_Website.jpeg
ORGANIZER;CN=Life &amp; Hope e.V.:MAILTO:kontakt@life-hope.de
END:VEVENT
END:VCALENDAR