BEGIN:VCALENDAR
VERSION:2.0
PRODID:-//Life &amp; Hope e.V. - ECPv3.9.1//NONSGML v1.0//EN
CALSCALE:GREGORIAN
METHOD:PUBLISH
X-WR-CALNAME:Life &amp; Hope e.V.
X-ORIGINAL-URL:https://www.life-hope.de/de/
X-WR-CALDESC:Events for Life &amp; Hope e.V.
X-WR-TIMEZONE:Europe/Berlin
BEGIN:VEVENT
DTSTART;VALUE=DATE-TIME:20190524T193000
DTEND;VALUE=DATE-TIME:20190524T220000
DTSTAMP:20260419T190217
CREATED:20190503T111134
LAST-MODIFIED:20190505T113457
UID:6932-1558726200-1558735200@https://www.life-hope.de/de/
SUMMARY:Hauskreis Pfaffenhofen-Balmertshofen
DESCRIPTION:
URL:https://www.life-hope.de/de/event/hauskreis-pfaffenhofen-balmertshofen/
LOCATION:Am Buschelberg 6, Pfaffenhofen-Balmertshofen, 89284
ATTACH;FMTTYPE=image/png:http://www.life-hope.de/wp-content/uploads/2014/10/life_and_hope_logo-Kopie-e1625041983471.png
ORGANIZER;CN=Familie Zimmer:MAILTO:info@zimmer.immobilien.net
END:VEVENT
END:VCALENDAR