BEGIN:VCALENDAR
VERSION:2.0
PRODID:-//Life &amp; Hope e.V. - ECPv3.9.1//NONSGML v1.0//EN
CALSCALE:GREGORIAN
METHOD:PUBLISH
X-WR-CALNAME:Life &amp; Hope e.V.
X-ORIGINAL-URL:https://www.life-hope.de/de/
X-WR-CALDESC:Events for Life &amp; Hope e.V.
X-WR-TIMEZONE:Europe/Berlin
BEGIN:VEVENT
DTSTART;VALUE=DATE-TIME:20190630T170000
DTEND;VALUE=DATE-TIME:20190630T190000
DTSTAMP:20260419T172613
CREATED:20190529T112923
LAST-MODIFIED:20190603T154450
UID:7013-1561914000-1561921200@https://www.life-hope.de/de/
SUMMARY:Gottesdienst in Stuttgart-Bad Cannstatt
DESCRIPTION:
URL:https://www.life-hope.de/de/event/gottesdienst-in-stuttgart-bad-cannstatt/
LOCATION:Waiblinger Straße 19, Stuttgart, 70372 
ATTACH;FMTTYPE=image/jpeg:http://www.life-hope.de/wp-content/uploads/2019/05/Fotolia_73201702_XS.jpg
ORGANIZER;CN=Brasilianisch-Deutsche Gemeinde e.V.:MAILTO:gomes70@gmx.de
END:VEVENT
END:VCALENDAR