BEGIN:VCALENDAR
VERSION:2.0
PRODID:-//Life &amp; Hope e.V. - ECPv3.9.1//NONSGML v1.0//EN
CALSCALE:GREGORIAN
METHOD:PUBLISH
X-WR-CALNAME:Life &amp; Hope e.V.
X-ORIGINAL-URL:https://www.life-hope.de/de/
X-WR-CALDESC:Events for Life &amp; Hope e.V.
X-WR-TIMEZONE:Europe/Berlin
BEGIN:VEVENT
DTSTART;VALUE=DATE-TIME:20190908T100000
DTEND;VALUE=DATE-TIME:20190908T120000
DTSTAMP:20260419T125139
CREATED:20190802T165356
LAST-MODIFIED:20200127T182036
UID:7157-1567936800-1567944000@https://www.life-hope.de/de/
SUMMARY:Gottesdienst in Hubmersberg, “Der Weg zur Freiheit” e.V.
DESCRIPTION:
URL:https://www.life-hope.de/de/event/gottesdienst-in-hubmersberg-gemeinde-der-weg-zur-freiheit-e-v-2/
LOCATION:Hubmersberg 2a , Pommelsbrunn, Bayern, 91224
ORGANIZER;CN=&#8222;Der Weg zur Freiheit&#8220; e.V.:MAILTO:info@derwegzurfreiheit.de
END:VEVENT
END:VCALENDAR