BEGIN:VCALENDAR
VERSION:2.0
PRODID:-//Life &amp; Hope e.V. - ECPv3.9.1//NONSGML v1.0//EN
CALSCALE:GREGORIAN
METHOD:PUBLISH
X-WR-CALNAME:Life &amp; Hope e.V.
X-ORIGINAL-URL:https://www.life-hope.de/de/
X-WR-CALDESC:Events for Life &amp; Hope e.V.
X-WR-TIMEZONE:Europe/Berlin
BEGIN:VEVENT
DTSTART;VALUE=DATE-TIME:20190913T193000
DTEND;VALUE=DATE-TIME:20190915T143000
DTSTAMP:20260419T124935
CREATED:20190327T155122
LAST-MODIFIED:20200127T182147
UID:6726-1568403000-1568557800@https://www.life-hope.de/de/
SUMMARY:Seminar im Hotel und Seminarhaus Ländli in Oberägeri, CH
DESCRIPTION:[vc_row][vc_column width="1/1"][vc_column_text]FLYER folgt[/vc_column_text][/vc_column][/vc_row][vc_row][vc_column width="1/1"][vc_column_text]  Durch Vaterliebe zu innerer und körperlicher Heilung kommen  Sie haben die Sehnsucht\, mit der Hilfe Jesu zur Vater Liebe Gottes heimzukommen\, innere und äußere Heilung zu erleben und auch zu lernen\, für andere wirkungsvoll um Heilung zu beten?    Indem wir mit Jesu Hilfe heimkommen zur Vaterliebe Gottes\, wird unser Urmangel geheilt und unsere Persönlichkeit gestärkt. Jesus sagt uns zu: Ich versichere euch: Wenn ihr dann den Vater in meinem Namen um etwas bittet\, wird er es euch geben. (Joh.16\,23). Gemäß dieser Zusage im Wort Gottes\, wird im Seminar gelehrt und praktisch demonstriert werden\, wie wir um innere und körperliche Heilung beten und dann auch Heilung bekommen können. Wir erwarten\, dass Jesus wunderbar heilt. Die Teilnehmer werden auch gelehrt und ermutigt\, in Zukunft für andere wirkungsvoll um Heilung zu beten.    Referent: Brian Williamson\, Life &amp; Hope e.V.    Hinweis: Christoph u. Utta Häselbarth mussten das Seminar aus persönlichen Gründen absagen. Brian Williamson wird das Seminar für sie übernehmen.[/vc_column_text][/vc_column][/vc_row][vc_row][vc_column width="1/1"][vc_column_text]  Jetzt zum Seminar im Hotel und Seminarhaus Ländli in Oberägeri vom 13.09. bis 15.09.2019 anmelden  [/vc_column_text][/vc_column][/vc_row]
URL:https://www.life-hope.de/de/event/seminar-im-hotel-und-seminarhaus-laendli-in-oberaegeri-ch/
LOCATION:Im Ländli 16, Oberägeri, 6315, Schweiz
CATEGORIES:Seminar
ORGANIZER;CN=Hotel und Seminarhaus Ländli in Oberägeri, CH:MAILTO:seminare@laendli.ch
END:VEVENT
END:VCALENDAR